BEGIN:VCALENDAR
VERSION:2.0
PRODID:-//Hispanic Center of West Michigan - ECPv6.15.20//NONSGML v1.0//EN
CALSCALE:GREGORIAN
METHOD:PUBLISH
X-WR-CALNAME:Hispanic Center of West Michigan
X-ORIGINAL-URL:https://hispanic-center.org
X-WR-CALDESC:Events for Hispanic Center of West Michigan
REFRESH-INTERVAL;VALUE=DURATION:PT1H
X-Robots-Tag:noindex
X-PUBLISHED-TTL:PT1H
BEGIN:VTIMEZONE
TZID:America/Detroit
BEGIN:DAYLIGHT
TZOFFSETFROM:-0500
TZOFFSETTO:-0400
TZNAME:EDT
DTSTART:20210314T070000
END:DAYLIGHT
BEGIN:STANDARD
TZOFFSETFROM:-0400
TZOFFSETTO:-0500
TZNAME:EST
DTSTART:20211107T060000
END:STANDARD
BEGIN:DAYLIGHT
TZOFFSETFROM:-0500
TZOFFSETTO:-0400
TZNAME:EDT
DTSTART:20220313T070000
END:DAYLIGHT
BEGIN:STANDARD
TZOFFSETFROM:-0400
TZOFFSETTO:-0500
TZNAME:EST
DTSTART:20221106T060000
END:STANDARD
BEGIN:DAYLIGHT
TZOFFSETFROM:-0500
TZOFFSETTO:-0400
TZNAME:EDT
DTSTART:20230312T070000
END:DAYLIGHT
BEGIN:STANDARD
TZOFFSETFROM:-0400
TZOFFSETTO:-0500
TZNAME:EST
DTSTART:20231105T060000
END:STANDARD
END:VTIMEZONE
BEGIN:VEVENT
DTSTART;TZID=America/Detroit:20221209T150000
DTEND;TZID=America/Detroit:20221209T180000
DTSTAMP:20260419T202316
CREATED:20221205T001546Z
LAST-MODIFIED:20221205T004059Z
UID:4027-1670598000-1670608800@hispanic-center.org
SUMMARY:Toy Distribution - Distribución de juguetes
DESCRIPTION:Acompáñanos el 9 de Diciembre del 2022 para la distribution de jugetes en el Centro Hispano del Oeste de Michigan.\nHORA: 3PM-6PM\nDIRECCIÓN: 1204 Cesar E. Chavez Ave SW Grand Rapids\, MI\nNOTA:\nLos juguetes son para las edades de 10 años y menores.\nLos niños no necesitan estar presente durante la recogida de los juguetes.\n¿Preguntas? 616.742.0200\n¿Quieres inscribirte como voluntario\, haz clic en el enlace?\nhttps://hispanic-center.dm.networkforgood.com/…/toy…\n——————————————-\nJoin us on December 9\, 2022 for our toy distribution at the Hispanic Center of Western Michigan.\nTIME: 3PM-6PM\nADDRESS: 1204 Cesar E. Chavez Ave SW Grand Rapids\, MI\nNOTE:\nToys are for children ages 10 and under.\nChildren do not need to be present during toy pick-up.\nQuestions? 616.742.0200\nWant to volunteer sign up using the link:\nhttps://hispanic-center.dm.networkforgood.com/…/toy…
URL:https://hispanic-center.org/event/toy-distribution-distribucion-de-juguetes/
LOCATION:Hispanic Center of Western Michigan\, 1204 Cesar E. Chavez Ave SW\, Grand Rapids\, MI\, 49503\, United States
ORGANIZER;CN="Hispanic Center of Western Michigan":MAILTO:rrodriguez@hispanic-center.org
END:VEVENT
END:VCALENDAR