BEGIN:VCALENDAR
VERSION:2.0
PRODID:-//Hispanic Center of West Michigan - ECPv6.15.20//NONSGML v1.0//EN
CALSCALE:GREGORIAN
METHOD:PUBLISH
X-WR-CALNAME:Hispanic Center of West Michigan
X-ORIGINAL-URL:https://hispanic-center.org
X-WR-CALDESC:Events for Hispanic Center of West Michigan
REFRESH-INTERVAL;VALUE=DURATION:PT1H
X-Robots-Tag:noindex
X-PUBLISHED-TTL:PT1H
BEGIN:VTIMEZONE
TZID:America/Detroit
BEGIN:DAYLIGHT
TZOFFSETFROM:-0500
TZOFFSETTO:-0400
TZNAME:EDT
DTSTART:20210314T070000
END:DAYLIGHT
BEGIN:STANDARD
TZOFFSETFROM:-0400
TZOFFSETTO:-0500
TZNAME:EST
DTSTART:20211107T060000
END:STANDARD
BEGIN:DAYLIGHT
TZOFFSETFROM:-0500
TZOFFSETTO:-0400
TZNAME:EDT
DTSTART:20220313T070000
END:DAYLIGHT
BEGIN:STANDARD
TZOFFSETFROM:-0400
TZOFFSETTO:-0500
TZNAME:EST
DTSTART:20221106T060000
END:STANDARD
BEGIN:DAYLIGHT
TZOFFSETFROM:-0500
TZOFFSETTO:-0400
TZNAME:EDT
DTSTART:20230312T070000
END:DAYLIGHT
BEGIN:STANDARD
TZOFFSETFROM:-0400
TZOFFSETTO:-0500
TZNAME:EST
DTSTART:20231105T060000
END:STANDARD
END:VTIMEZONE
BEGIN:VEVENT
DTSTART;TZID=America/Detroit:20221210T160000
DTEND;TZID=America/Detroit:20221210T180000
DTSTAMP:20260419T202307
CREATED:20221205T015812Z
LAST-MODIFIED:20221205T015812Z
UID:4046-1670688000-1670695200@hispanic-center.org
SUMMARY:✨COMPRANDO✨ 𝚁𝚒𝚌𝚘 𝚢 𝚂𝚊𝚗𝚘
DESCRIPTION:Acompáñenos en nuestra’s charlas sobre cómo llevar un estilo de vida saludable\, planificar las comidas\, cocinar y mucho más:\nDonde: Iglesia Metodista Unida\, La Nueva Esperanza (1005 Evergreen ST SE Grand Rapids\, MI 49507)\n\nFechas/Hora:\nDiciembre 10 @ 4pm \n\nGANE UNA TARJETA REGALO DE $20 DÓLARES Y LA POSBILIDAD DE GANAR\nOTROS PREMIOS POR ASISTIR A 3 SESIONES\n¿PREGUNTAS? No es necesario registrarse previamente.\nVeronica:\n(616) 279-2890
URL:https://hispanic-center.org/event/%e2%9c%a8comprando%e2%9c%a8-%f0%9d%9a%81%f0%9d%9a%92%f0%9d%9a%8c%f0%9d%9a%98-%f0%9d%9a%a2-%f0%9d%9a%82%f0%9d%9a%8a%f0%9d%9a%97%f0%9d%9a%98-2/
LOCATION:1005 Evergreen St SE Grand Rapids\, MI 49507\, 1005 Evergreen St SE\, Grand Rapids\, MI\, 49507\, United States
ORGANIZER;CN="Hispanic Center of Western Michigan":MAILTO:rrodriguez@hispanic-center.org
END:VEVENT
END:VCALENDAR