BEGIN:VCALENDAR
VERSION:2.0
PRODID:-//Hispanic Center of West Michigan - ECPv6.15.20//NONSGML v1.0//EN
CALSCALE:GREGORIAN
METHOD:PUBLISH
X-WR-CALNAME:Hispanic Center of West Michigan
X-ORIGINAL-URL:https://hispanic-center.org
X-WR-CALDESC:Events for Hispanic Center of West Michigan
REFRESH-INTERVAL;VALUE=DURATION:PT1H
X-Robots-Tag:noindex
X-PUBLISHED-TTL:PT1H
BEGIN:VTIMEZONE
TZID:America/Detroit
BEGIN:DAYLIGHT
TZOFFSETFROM:-0500
TZOFFSETTO:-0400
TZNAME:EDT
DTSTART:20210314T070000
END:DAYLIGHT
BEGIN:STANDARD
TZOFFSETFROM:-0400
TZOFFSETTO:-0500
TZNAME:EST
DTSTART:20211107T060000
END:STANDARD
BEGIN:DAYLIGHT
TZOFFSETFROM:-0500
TZOFFSETTO:-0400
TZNAME:EDT
DTSTART:20220313T070000
END:DAYLIGHT
BEGIN:STANDARD
TZOFFSETFROM:-0400
TZOFFSETTO:-0500
TZNAME:EST
DTSTART:20221106T060000
END:STANDARD
BEGIN:DAYLIGHT
TZOFFSETFROM:-0500
TZOFFSETTO:-0400
TZNAME:EDT
DTSTART:20230312T070000
END:DAYLIGHT
BEGIN:STANDARD
TZOFFSETFROM:-0400
TZOFFSETTO:-0500
TZNAME:EST
DTSTART:20231105T060000
END:STANDARD
END:VTIMEZONE
BEGIN:VEVENT
DTSTART;TZID=America/Detroit:20221215T090000
DTEND;TZID=America/Detroit:20221215T153000
DTSTAMP:20260419T202318
CREATED:20221205T015044Z
LAST-MODIFIED:20221205T015044Z
UID:4041-1671094800-1671118200@hispanic-center.org
SUMMARY:Friend of the Court de Condado de Kent estará en el Centro Hispano del Oeste de Michigan
DESCRIPTION:Friend of the Court de Condado de Kent estará en el Centro Hispano del Oeste de Michigan (1204 Cesar E. Chavez Ave SW Grand Rapids\, MI 49503). Estarán cada tercer jueves de cada mes de 9:30AM-11:30AM y de 1:30PM-3:30PM.\n\nFecha de este mes es 15 de Diciembre de 2022.\n\nFriend of the Court de\nCondado de Kent podrá ayudarlo con lo siguiente:\nResolver su orden de arresto con Friend of the Court\, sin arresto.\nRegístrese en el Programa de Recursos para Padres.\nEste programa lo ayuda con el apoyo de los padres y lo ayuda a encontrar empleo.\nDiscuta las opciones para la manutención de su hijo.\nDiscuta un plan para recuperar su licencia de conducir.\nEliminar los atrasos estatales.\nPreguntas sobre su horario de padre y custodia.\n¿Preguntas? Para ser una cita llame a Alexandra\n616.742.0213\n——————————\nFriend of the Court of Kent County will be at the Hispanic Center of Western Michigan (1204 Cesar E. Chavez Ave SW Grand Rapids\, MI 49503). Every third Thursday of each month from 9:30AM-11:30AM and 1:30PM-3:30PM.\n\nThis month is on December 15\, 2022\n\nThe Friend of the Court of Kent County will be able to help you with the following:\nResolve your warrant with Friend of the Court\, without an arrest.\nSign up for the Resources for Parents Program. This program helps you with parent support and helps you find employment.\nDiscuss options for your child support.\nDiscuss a plan to obtain your driver’s license back.\nEliminate state arrears.\nQuestions about parenting time and custody.\nQuestions? Or to schedule an appointment call Alexandra\n616.742.0213
URL:https://hispanic-center.org/event/friend-of-the-court-de-condado-de-kent-estara-en-el-centro-hispano-del-oeste-de-michigan/
LOCATION:Hispanic Center of Western Michigan\, 1204 Cesar E. Chavez Ave SW\, Grand Rapids\, MI\, 49503\, United States
ORGANIZER;CN="Hispanic Center of Western Michigan":MAILTO:rrodriguez@hispanic-center.org
END:VEVENT
END:VCALENDAR