BEGIN:VCALENDAR
VERSION:2.0
PRODID:-//Hispanic Center of West Michigan - ECPv6.15.20//NONSGML v1.0//EN
CALSCALE:GREGORIAN
METHOD:PUBLISH
X-WR-CALNAME:Hispanic Center of West Michigan
X-ORIGINAL-URL:https://hispanic-center.org
X-WR-CALDESC:Events for Hispanic Center of West Michigan
REFRESH-INTERVAL;VALUE=DURATION:PT1H
X-Robots-Tag:noindex
X-PUBLISHED-TTL:PT1H
BEGIN:VTIMEZONE
TZID:America/Detroit
BEGIN:DAYLIGHT
TZOFFSETFROM:-0500
TZOFFSETTO:-0400
TZNAME:EDT
DTSTART:20220313T070000
END:DAYLIGHT
BEGIN:STANDARD
TZOFFSETFROM:-0400
TZOFFSETTO:-0500
TZNAME:EST
DTSTART:20221106T060000
END:STANDARD
BEGIN:DAYLIGHT
TZOFFSETFROM:-0500
TZOFFSETTO:-0400
TZNAME:EDT
DTSTART:20230312T070000
END:DAYLIGHT
BEGIN:STANDARD
TZOFFSETFROM:-0400
TZOFFSETTO:-0500
TZNAME:EST
DTSTART:20231105T060000
END:STANDARD
BEGIN:DAYLIGHT
TZOFFSETFROM:-0500
TZOFFSETTO:-0400
TZNAME:EDT
DTSTART:20240310T070000
END:DAYLIGHT
BEGIN:STANDARD
TZOFFSETFROM:-0400
TZOFFSETTO:-0500
TZNAME:EST
DTSTART:20241103T060000
END:STANDARD
END:VTIMEZONE
BEGIN:VEVENT
DTSTART;TZID=America/Detroit:20230104T150000
DTEND;TZID=America/Detroit:20230104T180000
DTSTAMP:20260419T183834
CREATED:20221228T192512Z
LAST-MODIFIED:20221228T192512Z
UID:4089-1672844400-1672855200@hispanic-center.org
SUMMARY:CLÍNICA DE VACUNACIÓN CONTRA COVID-19| INFLUENZA | VIRUELA DEL MONO
DESCRIPTION:CLINICA DE VACUNACIÓN PARA COVID-19 | INFLUENZA | VIRUELA DEL MONO\nAcompáñanos para la clínica de vacunación para que tenga su vacuna contra COVID-19\, Influenza y Viruela del Mono en el Centro Hispano del Oeste de Michigan.\n NO SE OCUPA SER CITA \nDONDE: 1204 Cesar E. Chavez Ave SW Grand Rapids\, MI 49503\n FECHAS :\nMiércoles 4 de Enero de 2023\nMiércoles 18 de Enero de 2023\n HORA: 3PM-6PM\n Preguntas llame a Alejandro Coordinador de Inmunizaciones al 616.246.0936\n—————————————\nVACCINATION CLINIC FOR COVID-19 | INFLUENZA | MONKEYPOX\nJoin us for the vaccination clinic to have your vaccine against COVID-19\, Influenza and Monkey pox at the Hispanic Center of West Michigan.\n NO APPOINTMENT NEEDED \nWHERE: 1204 Cesar E. Chavez Ave SW Grand Rapids\, MI 49503\n DATES:\nWednesday\, January 4\, 2023\nWednesday\, January 18\, 2023\n TIME: 3PM-6PM\n Questions call Alejandro Immunization Coordinator at 616.246.0936
URL:https://hispanic-center.org/event/clinica-de-vacunacion-contra-covid-19-influenza-viruela-del-mono-3/
LOCATION:Hispanic Center of Western Michigan\, 1204 Cesar E. Chavez Ave SW\, Grand Rapids\, MI\, 49503\, United States
ORGANIZER;CN="Hispanic Center of Western Michigan":MAILTO:rrodriguez@hispanic-center.org
END:VEVENT
END:VCALENDAR