BEGIN:VCALENDAR
VERSION:2.0
PRODID:-//Hispanic Center of West Michigan - ECPv6.15.20//NONSGML v1.0//EN
CALSCALE:GREGORIAN
METHOD:PUBLISH
X-WR-CALNAME:Hispanic Center of West Michigan
X-ORIGINAL-URL:https://hispanic-center.org
X-WR-CALDESC:Events for Hispanic Center of West Michigan
REFRESH-INTERVAL;VALUE=DURATION:PT1H
X-Robots-Tag:noindex
X-PUBLISHED-TTL:PT1H
BEGIN:VTIMEZONE
TZID:America/Detroit
BEGIN:DAYLIGHT
TZOFFSETFROM:-0500
TZOFFSETTO:-0400
TZNAME:EDT
DTSTART:20220313T070000
END:DAYLIGHT
BEGIN:STANDARD
TZOFFSETFROM:-0400
TZOFFSETTO:-0500
TZNAME:EST
DTSTART:20221106T060000
END:STANDARD
BEGIN:DAYLIGHT
TZOFFSETFROM:-0500
TZOFFSETTO:-0400
TZNAME:EDT
DTSTART:20230312T070000
END:DAYLIGHT
BEGIN:STANDARD
TZOFFSETFROM:-0400
TZOFFSETTO:-0500
TZNAME:EST
DTSTART:20231105T060000
END:STANDARD
BEGIN:DAYLIGHT
TZOFFSETFROM:-0500
TZOFFSETTO:-0400
TZNAME:EDT
DTSTART:20240310T070000
END:DAYLIGHT
BEGIN:STANDARD
TZOFFSETFROM:-0400
TZOFFSETTO:-0500
TZNAME:EST
DTSTART:20241103T060000
END:STANDARD
END:VTIMEZONE
BEGIN:VEVENT
DTSTART;TZID=America/Detroit:20230105T093000
DTEND;TZID=America/Detroit:20230105T103000
DTSTAMP:20260419T183832
CREATED:20221228T192908Z
LAST-MODIFIED:20221228T192908Z
UID:4093-1672911000-1672914600@hispanic-center.org
SUMMARY:Reunion Informativa: Covid-19
DESCRIPTION:¿Tiene alguna pregunta sobre el Covid-19 o quiere saber más sobre la vacuna contra el Covid-19? Únase a nosotros para nuestra charla informativa sobre COVID-19.\nDonde: Centro Hispano\n1204 Cesar E. Chavez Ave SW\nGrand Rapids\, Michigan 49503\nHora: 9:30am\n¿Preguntas? O para registrarse llame a Zandra (616) 279-2891
URL:https://hispanic-center.org/event/reunion-informativa-covid-19/
LOCATION:Hispanic Center of Western Michigan\, 1204 Cesar E. Chavez Ave SW\, Grand Rapids\, MI\, 49503\, United States
ORGANIZER;CN="Hispanic Center of Western Michigan":MAILTO:rrodriguez@hispanic-center.org
END:VEVENT
END:VCALENDAR